BEGIN:VCALENDAR
VERSION:2.0
PRODID:-//Madison Children&#039;s Dyslexia Center - ECPv6.15.20//NONSGML v1.0//EN
CALSCALE:GREGORIAN
METHOD:PUBLISH
X-WR-CALNAME:Madison Children&#039;s Dyslexia Center
X-ORIGINAL-URL:https://madison-cdc.org
X-WR-CALDESC:Events for Madison Children&#039;s Dyslexia Center
REFRESH-INTERVAL;VALUE=DURATION:PT1H
X-Robots-Tag:noindex
X-PUBLISHED-TTL:PT1H
BEGIN:VTIMEZONE
TZID:UTC
BEGIN:STANDARD
TZOFFSETFROM:+0000
TZOFFSETTO:+0000
TZNAME:UTC
DTSTART:20200101T000000
END:STANDARD
END:VTIMEZONE
BEGIN:VEVENT
DTSTART;TZID=UTC:20250517T083000
DTEND;TZID=UTC:20250517T103000
DTSTAMP:20260424T142620
CREATED:20241218T213831Z
LAST-MODIFIED:20241218T213831Z
UID:16187-1747470600-1747477800@madison-cdc.org
SUMMARY:Walk for Dyslexia 2025
DESCRIPTION:Families and community members can gather in beautiful spring weather to make strides against dyslexia or participate with a virtual option. On Saturday\, May 17\, 2025\, the public is invited to join in the Walk for Dyslexia to benefit the Madison Area Children’s Dyslexia Center\, which offers free\, individualized tutoring for Dane County children who struggle with reading\, writing\, and spelling. The 5K walk/fun run will start at 8:30 am. In-person registration will begin at 7:30 am at Brittingham Park (829 W. Washington Avenue\, Madison\, WI).  Participants are welcome to run or walk the course. No timing is provided. \nAccording to the City of Madison\, dogs are welcome at Brittingham Park. However\, the City requires all dogs to be on a leash (leashes must be non-retractable and a maximum of 6 feet long). We ask that you respect your fellow event participants and watch your dog closely. \nVirtual Option: Invite out-of-town or even out-of-state friends and family to enjoy the fun—without asking them to travel. Run a 5K around your neighborhood\, at a local park\, or track your steps over a few days to complete a 5K (approximately 6\,000 steps make up a 5K) if you’d prefer. \nONLINE REGISTRATION AND DONATION FEES: An online registration fee is added to each registration and donation. If you prefer to skip paying the online processing fee\, we encourage you to mail in registration or donations. Please download the registration form and mail it in before May 1\, 2025. Donations are accepted through the mail at any time\, you can include a note that the gift is supporting the walk. If you are tracking your donations through a fundraiser\, encourage the donor to include a note with your name on it. \nSIGN UP TODAY!\n  \nTEAMS: grab your friends\, colleagues\, and family to form a team! All teams with five or more team members receive a $5 discount on their registration. Discounts will be enjoyed as a refund once your team has reached a minimum of 5 team members.  Click through the registration process to start your team. If you are searching for a team already created\, click the menu above to find them. \n  \n \n  \n  \n  \n  \n  \n  \n  \n   
URL:https://madison-cdc.org/event/walk-for-dyslexia-2025/
LOCATION:Brittingham Park\, 829 W. Washington Avenue\, Madison\, WI\, 53715\, United States
CATEGORIES:Walk for Dyslexia
ATTACH;FMTTYPE=image/jpeg:https://madison-cdc.org/wp-content/uploads/2024/12/PXL_20240518_145231448-scaled.jpg
ORGANIZER;CN="Children's Dyslexia Center - Madison":MAILTO:Madison@cdcinc.org
END:VEVENT
BEGIN:VEVENT
DTSTART;TZID=UTC:20240518T083000
DTEND;TZID=UTC:20240518T100000
DTSTAMP:20260424T142620
CREATED:20240201T232514Z
LAST-MODIFIED:20240827T031646Z
UID:16149-1716021000-1716026400@madison-cdc.org
SUMMARY:Walk for Dyslexia 2024
DESCRIPTION:Sat May 18\, 2024\n8:30 AM-10:00 AM \n\n\n\n\n\nAdditional race information can be found at https://walkfordyslexiamadison.org/.\n\n\n\n\n\n\n\n\n\n\n\n\nPlace: Brittingham Park\, 829 W. Washington Ave\, Madison\, WI 53715\n\n\n\n\nDescription\n\n\nFamilies and community members can gather in beautiful spring weather to make strides against dyslexia or participate with a virtual option. On Saturday\, May 18\, 2024\, the public is invited to join in the Walk for Dyslexia to benefit the Madison Area Children’s Dyslexia Center\, which offers free\, individualized tutoring for Dane County children who struggle with reading\, writing\, and spelling. In-person registration will begin at 7:30 am at Brittingham Park (829 W. Washington Avenue\, Madison\, WI).  The 5K walk/fun run will start at 8:30 am. Participants are welcome to run or walk the course. No timing is provided. \nDogs are welcome at Brittingham Park\, according to the City of Madison. The City of Madison does require all dogs to be on a leash (leashes must be non-retractable and a maximum of 6 feet long). We ask that you respect your fellow event participants and watch your dog closely. \nVirtual Option: Invite out-of-town or even out-of-state friends and family to enjoy the fun—without asking them to travel. Run a 5K around your neighborhood\, at a local park\, or track your steps over a few days to complete a 5K (approximately 6\,000 steps make up a 5K) if you’d prefer. We encourage you to send a photo of your adventure to KKuenzie@cdcinc.org. We will be sharing photos on our Facebook page. \nONLINE REGISTRATION AND DONATION FEES: An online registration fee is added to each registration and donation. If you prefer to skip paying the online processing fee\, we encourage you to mail in registration or donations. Please download the registration form and mail it in before May 1\, 2024. Donations are accepted through the mail continuously. If you are tracking your donations through a fundraiser\, encourage the donor to include a note with your name on it. \nTEAMS: grab your friends\, colleagues\, and family to form a team! All teams with five or more team members receive a $5 discount on their registration. Discounts will be enjoyed as a refund once your team has reached a minimum of 5 team members.  Click through the registration process to start your team. If you are searching for a team already created\, click the menu above to find them.
URL:https://madison-cdc.org/event/walk-for-dyslexia-2024/
LOCATION:Brittingham Park\, 829 W. Washington Avenue\, Madison\, WI\, 53715\, United States
CATEGORIES:Walk for Dyslexia
ATTACH;FMTTYPE=image/png:https://madison-cdc.org/wp-content/uploads/2021/04/Screen-Shot-2021-04-10-at-2.39.55-PM.png
ORGANIZER;CN="Children's Dyslexia Center - Madison":MAILTO:Madison@cdcinc.org
END:VEVENT
BEGIN:VEVENT
DTSTART;TZID=UTC:20230520T083000
DTEND;TZID=UTC:20230520T100000
DTSTAMP:20260424T142620
CREATED:20230220T170424Z
LAST-MODIFIED:20230220T170822Z
UID:16051-1684571400-1684576800@madison-cdc.org
SUMMARY:Walk for Dyslexia 2023
DESCRIPTION:Families and community members can gather in beautiful spring weather to make strides against dyslexia or participate with a virtual option.   On Saturday\, May 20th\, the public is invited to join in the Walk for Dyslexia to benefit the Madison Area Children’s Dyslexia Center\, which offers free\, individualized tutoring for children who struggle with reading\, writing\, and spelling.  In-person registration will begin at 7:30 am at Brittingham Park (829 W. Washington Avenue\, Madison\, WI).  The 5K walk/fun run will start at 8:30 am. Participants are welcome to run or walk the course. No timing is provided. \nONLINE REGISTRATION \nVirtual Option: Now you can skip the port-a-potties\, skip the check-in line and participate in the ultimate 5k event from the comfort of your own neighborhood—or even your own home! And you can invite out-of-town or even out-of-state friends and family to join in the fun—without ever seeing them. Participants can create their own course. Run a 5k around your neighborhood or at a local park. Or plot a walk from your bedroom to the kitchen and back again if you’d prefer. We encourage you to send a photo of your adventure to KKuenzie@cdcinc.org. We will be sharing photos on our Facebook page. \nTEAMS: Grab your friends\, colleagues\, and family to form a team! All teams with five or more team members receive a $5 discount on their registration. Discounts will be enjoyed as a refund once your team has reached a minimum of 5 team members.  Click through the registration process to start your team. If you are searching for a team already created\, you can search for them on our walk website. \nCheck out all the event information on our walk website!
URL:https://madison-cdc.org/event/walk-for-dyslexia-2023/
LOCATION:Brittingham Park\, 829 W. Washington Avenue\, Madison\, WI\, 53715\, United States
CATEGORIES:Walk for Dyslexia
ORGANIZER;CN="Children's Dyslexia Center - Madison":MAILTO:Madison@cdcinc.org
END:VEVENT
BEGIN:VEVENT
DTSTART;VALUE=DATE:20210515
DTEND;VALUE=DATE:20210516
DTSTAMP:20260424T142620
CREATED:20210410T193631Z
LAST-MODIFIED:20210410T194611Z
UID:15888-1621036800-1621123199@madison-cdc.org
SUMMARY:Walk for Dyslexia - Madison
DESCRIPTION:Currently\, we are planning to host a limited in-person event at Brittingham Park\, Madison\, WI. If necessary\, we will transition to a fully virtual event and notify all registrants. When you register\, your non-refundable registration fee applies to either scenario. We will follow the recommendation of local public health officials in determining how we hold our event during this COVID-19 emergency as it continues into 2021. \n \nRegardless of what form of engagement you choose\, your support is critical to our ability to provide our life-changing one-on-one tutoring services. Our Walk has been a fun day for families and Center supporters to get together for over ten years. Yet we believe the main reason people register is to support the Center and to support the children that we serve. Thank you for continuing this tradition. \nIf we do have our planned in-person gathering on May 15\, 2021\, and you attend\, you will be expected to abide by COVID-19 restrictions/precautions including\, but not limited to: \n1) Wearing a mask. \n2) Staying at least six feet apart from others who are not in your household. \nIn addition\, parents\, you are responsible for your children abiding by these restrictions. \nClick Here for more information and to register …
URL:https://madison-cdc.org/event/walk-for-dyslexia-madison/
LOCATION:Brittingham Park\, 829 W. Washington Avenue\, Madison\, WI\, 53715\, United States
CATEGORIES:Walk for Dyslexia
ATTACH;FMTTYPE=image/png:https://madison-cdc.org/wp-content/uploads/2021/04/Screen-Shot-2021-04-10-at-2.32.13-PM.png
ORGANIZER;CN="Children's Dyslexia Center - Madison":MAILTO:Madison@cdcinc.org
END:VEVENT
END:VCALENDAR